BEGIN:VCALENDAR
VERSION:2.0
PRODID:-//BEDD Hotel Express - ECPv6.6.0.2//NONSGML v1.0//EN
CALSCALE:GREGORIAN
METHOD:PUBLISH
X-ORIGINAL-URL:https://hotelbeddqueretaro.com
X-WR-CALDESC:Eventos para BEDD Hotel Express
REFRESH-INTERVAL;VALUE=DURATION:PT1H
X-Robots-Tag:noindex
X-PUBLISHED-TTL:PT1H
BEGIN:VTIMEZONE
TZID:UTC
BEGIN:STANDARD
TZOFFSETFROM:+0000
TZOFFSETTO:+0000
TZNAME:UTC
DTSTART:20240101T000000
END:STANDARD
END:VTIMEZONE
BEGIN:VEVENT
DTSTART;VALUE=DATE:20250214
DTEND;VALUE=DATE:20250215
DTSTAMP:20260419T173241
CREATED:20250103T231941Z
LAST-MODIFIED:20250103T231941Z
UID:1514-1739491200-1739577599@hotelbeddqueretaro.com
SUMMARY:Lupillo Rivera   Parque Bicentenario Qro    14/02/2024
DESCRIPTION:
URL:https://hotelbeddqueretaro.com/event/lupillo-rivera-parque-bicentenario-qro-14-02-2024/
END:VEVENT
BEGIN:VEVENT
DTSTART;VALUE=DATE:20250214
DTEND;VALUE=DATE:20250215
DTSTAMP:20260419T173241
CREATED:20241220T225718Z
LAST-MODIFIED:20241220T225927Z
UID:1502-1739491200-1739577599@hotelbeddqueretaro.com
SUMMARY:Gloria Trevi
DESCRIPTION:14\nFeb\n\n\n\n\nGloria Trevi\n\n14 y 15 de febrero de 2025\nQuerétaro Centro de Congresos\, B Josefa Vergara y Hernández\, Av. de las Artes\, Paseo de las Artes 1531\nSantiago de Querétaro\, Querétaro
URL:https://hotelbeddqueretaro.com/event/gloria-trevi/
END:VEVENT
BEGIN:VEVENT
DTSTART;VALUE=DATE:20240208
DTEND;VALUE=DATE:20240209
DTSTAMP:20260419T173241
CREATED:20250215T210009Z
LAST-MODIFIED:20250103T234436Z
UID:1488-1707350400-1707436799@hotelbeddqueretaro.com
SUMMARY:Little Jesus
DESCRIPTION:
URL:https://hotelbeddqueretaro.com/event/little-jesus/
END:VEVENT
END:VCALENDAR